{"text_format":"1","workbook":"xlsx","n_sheets":3,"sheets":["入力","印刷（手差し）","印刷 （カセット）"],"not_rendered":{"charts":0,"images":0,"macros":1,"external_links":0,"defined_names":1,"comments":1,"pivot_tables":0},"unopened":[],"bounds":{"document_bytes":16777216,"sheet_cells":100000,"rows_first":2000,"rows_last":500,"rows_between":2000,"halvings":0,"cell_chars":16384,"cell_head_chars":4096},"cells_cut":0,"cells_raw":0,"read":"whole","date_system":"1900"}

{"sheet":"入力","index":0,"n_rows":1005,"n_cols":17,"rows_kept":1005,"cut":false,"hidden":false,"merged":[]}
[null,null,null,null,"摘要1","月分貸付償還金"]
["依頼人",null,null,null,"摘要２"]
[15,{"$f":"IF($A$3=\"\",\"\",IF(VLOOKUP($A$3,$A$6:$I$1005,COLUMN(B$1),FALSE)=0,\"\",VLOOKUP($A$3,$A$6:$I$1005,COLUMN(B$1),FALSE)))","v":""},"","","","","","",""]
[null,null,"明細データ：1000件まで掲載できるようにしています。",null,null,null,null,null,null,null,null,"振込依頼書（基本項目入力）"]
["NO","なし","依頼人カナ","依頼人漢字","金額","住所","℡","摘要1","摘要２",null,"NO","お振込先","科目","口座番号","フリガナ","おなまえ","電話番号"]
[1,null,null,null,null,null,null,null,null,null,11,"伊予銀行　愛媛県庁支店","普通","1620922","ｻﾞｲ)ｴﾋﾒｹﾝｷﾖｳｼﾖｸｲﾝｺﾞｼﾞﾖｶｲ","一般財団法人愛媛県教職員互助会","089-943-0950"]
[2,null,null,null,null,null,null,null,null,null,12,"愛媛銀行　県庁支店","普通","569536"]
[3,null,null,null,null,null,null,null,null,null,13,"愛媛県信連　愛媛県庁支店","普通","1015627"]
[4]
[5,null,null,null,null,null,null,null,null,null,"使い方"]
[6,null,null,null,null,null,null,null,null,null,"①","【印刷メニュー】ボタンを押します。"]
[7,null,null,null,null,null,null,null,null,null,"②","印刷開始・終了ＮＯを入力します。"]
[8,null,null,null,null,null,null,null,null,null,"③","【印刷実行】ボタンを押します。"]
[9,null,null,null,null,null,null,null,null,null,"※","印刷しない場合は【キャンセル】ボタンを押します。"]
[10,null,null,null,null,null,null,null,null,null,"※","印刷中に止めたいときは【印刷中断】ボタンを押します。"]
[11]
[12]
[13]
[14]
[15]
[16]
[17]
[18]
[19]
[20]
[21]
[22]
[23]
[24]
[25]
[26]
[27]
[28]
[29]
[30]
[31]
[32]
[33]
[34]
[35]
[36]
[37]
[38]
[39]
[40]
[41]
[42]
[43]
[44]
[45]
[46]
[47]
[48]
[49]
[50]
[51]
[52]
[53]
[54]
[55]
[56]
[57]
[58]
[59]
[60]
[61]
[62]
[63]
[64]
[65]
[66]
[67]
[68]
[69]
[70]
[71]
[72]
[73]
[74]
[75]
[76]
[77]
[78]
[79]
[80]
[81]
[82]
[83]
[84]
[85]
[86]
[87]
[88]
[89]
[90]
[91]
[92]
[93]
[94]
[95]
[96]
[97]
[98]
[99]
[100]
[101]
[102]
[103]
[104]
[105]
[106]
[107]
[108]
[109]
[110]
[111]
[112]
[113]
[114]
[115]
[116]
[117]
[118]
[119]
[120]
[121]
[122]
[123]
[124]
[125]
[126]
[127]
[128]
[129]
[130]
[131]
[132]
[133]
[134]
[135]
[136]
[137]
[138]
[139]
[140]
[141]
[142]
[143]
[144]
[145]
[146]
[147]
[148]
[149]
[150]
[151]
[152]
[153]
[154]
[155]
[156]
[157]
[158]
[159]
[160]
[161]
[162]
[163]
[164]
[165]
[166]
[167]
[168]
[169]
[170]
[171]
[172]
[173]
[174]
[175]
[176]
[177]
[178]
[179]
[180]
[181]
[182]
[183]
[184]
[185]
[186]
[187]
[188]
[189]
[190]
[191]
[192]
[193]
[194]
[195]
[196]
[197]
[198]
[199]
[200]
[201]
[202]
[203]
[204]
[205]
[206]
[207]
[208]
[209]
[210]
[211]
[212]
[213]
[214]
[215]
[216]
[217]
[218]
[219]
[220]
[221]
[222]
[223]
[224]
[225]
[226]
[227]
[228]
[229]
[230]
[231]
[232]
[233]
[234]
[235]
[236]
[237]
[238]
[239]
[240]
[241]
[242]
[243]
[244]
[245]
[246]
[247]
[248]
[249]
[250]
[251]
[252]
[253]
[254]
[255]
[256]
[257]
[258]
[259]
[260]
[261]
[262]
[263]
[264]
[265]
[266]
[267]
[268]
[269]
[270]
[271]
[272]
[273]
[274]
[275]
[276]
[277]
[278]
[279]
[280]
[281]
[282]
[283]
[284]
[285]
[286]
[287]
[288]
[289]
[290]
[291]
[292]
[293]
[294]
[295]
[296]
[297]
[298]
[299]
[300]
[301]
[302]
[303]
[304]
[305]
[306]
[307]
[308]
[309]
[310]
[311]
[312]
[313]
[314]
[315]
[316]
[317]
[318]
[319]
[320]
[321]
[322]
[323]
[324]
[325]
[326]
[327]
[328]
[329]
[330]
[331]
[332]
[333]
[334]
[335]
[336]
[337]
[338]
[339]
[340]
[341]
[342]
[343]
[344]
[345]
[346]
[347]
[348]
[349]
[350]
[351]
[352]
[353]
[354]
[355]
[356]
[357]
[358]
[359]
[360]
[361]
[362]
[363]
[364]
[365]
[366]
[367]
[368]
[369]
[370]
[371]
[372]
[373]
[374]
[375]
[376]
[377]
[378]
[379]
[380]
[381]
[382]
[383]
[384]
[385]
[386]
[387]
[388]
[389]
[390]
[391]
[392]
[393]
[394]
[395]
[396]
[397]
[398]
[399]
[400]
[401]
[402]
[403]
[404]
[405]
[406]
[407]
[408]
[409]
[410]
[411]
[412]
[413]
[414]
[415]
[416]
[417]
[418]
[419]
[420]
[421]
[422]
[423]
[424]
[425]
[426]
[427]
[428]
[429]
[430]
[431]
[432]
[433]
[434]
[435]
[436]
[437]
[438]
[439]
[440]
[441]
[442]
[443]
[444]
[445]
[446]
[447]
[448]
[449]
[450]
[451]
[452]
[453]
[454]
[455]
[456]
[457]
[458]
[459]
[460]
[461]
[462]
[463]
[464]
[465]
[466]
[467]
[468]
[469]
[470]
[471]
[472]
[473]
[474]
[475]
[476]
[477]
[478]
[479]
[480]
[481]
[482]
[483]
[484]
[485]
[486]
[487]
[488]
[489]
[490]
[491]
[492]
[493]
[494]
[495]
[496]
[497]
[498]
[499]
[500]
[501]
[502]
[503]
[504]
[505]
[506]
[507]
[508]
[509]
[510]
[511]
[512]
[513]
[514]
[515]
[516]
[517]
[518]
[519]
[520]
[521]
[522]
[523]
[524]
[525]
[526]
[527]
[528]
[529]
[530]
[531]
[532]
[533]
[534]
[535]
[536]
[537]
[538]
[539]
[540]
[541]
[542]
[543]
[544]
[545]
[546]
[547]
[548]
[549]
[550]
[551]
[552]
[553]
[554]
[555]
[556]
[557]
[558]
[559]
[560]
[561]
[562]
[563]
[564]
[565]
[566]
[567]
[568]
[569]
[570]
[571]
[572]
[573]
[574]
[575]
[576]
[577]
[578]
[579]
[580]
[581]
[582]
[583]
[584]
[585]
[586]
[587]
[588]
[589]
[590]
[591]
[592]
[593]
[594]
[595]
[596]
[597]
[598]
[599]
[600]
[601]
[602]
[603]
[604]
[605]
[606]
[607]
[608]
[609]
[610]
[611]
[612]
[613]
[614]
[615]
[616]
[617]
[618]
[619]
[620]
[621]
[622]
[623]
[624]
[625]
[626]
[627]
[628]
[629]
[630]
[631]
[632]
[633]
[634]
[635]
[636]
[637]
[638]
[639]
[640]
[641]
[642]
[643]
[644]
[645]
[646]
[647]
[648]
[649]
[650]
[651]
[652]
[653]
[654]
[655]
[656]
[657]
[658]
[659]
[660]
[661]
[662]
[663]
[664]
[665]
[666]
[667]
[668]
[669]
[670]
[671]
[672]
[673]
[674]
[675]
[676]
[677]
[678]
[679]
[680]
[681]
[682]
[683]
[684]
[685]
[686]
[687]
[688]
[689]
[690]
[691]
[692]
[693]
[694]
[695]
[696]
[697]
[698]
[699]
[700]
[701]
[702]
[703]
[704]
[705]
[706]
[707]
[708]
[709]
[710]
[711]
[712]
[713]
[714]
[715]
[716]
[717]
[718]
[719]
[720]
[721]
[722]
[723]
[724]
[725]
[726]
[727]
[728]
[729]
[730]
[731]
[732]
[733]
[734]
[735]
[736]
[737]
[738]
[739]
[740]
[741]
[742]
[743]
[744]
[745]
[746]
[747]
[748]
[749]
[750]
[751]
[752]
[753]
[754]
[755]
[756]
[757]
[758]
[759]
[760]
[761]
[762]
[763]
[764]
[765]
[766]
[767]
[768]
[769]
[770]
[771]
[772]
[773]
[774]
[775]
[776]
[777]
[778]
[779]
[780]
[781]
[782]
[783]
[784]
[785]
[786]
[787]
[788]
[789]
[790]
[791]
[792]
[793]
[794]
[795]
[796]
[797]
[798]
[799]
[800]
[801]
[802]
[803]
[804]
[805]
[806]
[807]
[808]
[809]
[810]
[811]
[812]
[813]
[814]
[815]
[816]
[817]
[818]
[819]
[820]
[821]
[822]
[823]
[824]
[825]
[826]
[827]
[828]
[829]
[830]
[831]
[832]
[833]
[834]
[835]
[836]
[837]
[838]
[839]
[840]
[841]
[842]
[843]
[844]
[845]
[846]
[847]
[848]
[849]
[850]
[851]
[852]
[853]
[854]
[855]
[856]
[857]
[858]
[859]
[860]
[861]
[862]
[863]
[864]
[865]
[866]
[867]
[868]
[869]
[870]
[871]
[872]
[873]
[874]
[875]
[876]
[877]
[878]
[879]
[880]
[881]
[882]
[883]
[884]
[885]
[886]
[887]
[888]
[889]
[890]
[891]
[892]
[893]
[894]
[895]
[896]
[897]
[898]
[899]
[900]
[901]
[902]
[903]
[904]
[905]
[906]
[907]
[908]
[909]
[910]
[911]
[912]
[913]
[914]
[915]
[916]
[917]
[918]
[919]
[920]
[921]
[922]
[923]
[924]
[925]
[926]
[927]
[928]
[929]
[930]
[931]
[932]
[933]
[934]
[935]
[936]
[937]
[938]
[939]
[940]
[941]
[942]
[943]
[944]
[945]
[946]
[947]
[948]
[949]
[950]
[951]
[952]
[953]
[954]
[955]
[956]
[957]
[958]
[959]
[960]
[961]
[962]
[963]
[964]
[965]
[966]
[967]
[968]
[969]
[970]
[971]
[972]
[973]
[974]
[975]
[976]
[977]
[978]
[979]
[980]
[981]
[982]
[983]
[984]
[985]
[986]
[987]
[988]
[989]
[990]
[991]
[992]
[993]
[994]
[995]
[996]
[997]
[998]
[999]
[1000]

{"sheet":"印刷（手差し）","index":1,"n_rows":43,"n_cols":112,"rows_kept":43,"cut":false,"hidden":false,"merged":[[16,111,17,112],[16,8,17,22],[16,23,17,27],[16,28,17,39],[16,51,17,64],[16,65,17,68],[16,69,17,80],[16,84,17,110],[22,24,23,25],[18,81,22,112],[20,44,23,50],[18,44,19,50],[12,44,17,47],[14,111,15,112],[12,81,15,83],[12,84,15,86],[12,87,15,89],[12,90,15,92],[12,93,15,95],[12,96,15,98],[12,99,15,101],[12,102,15,104],[12,105,15,107],[12,108,15,110],[12,111,13,112],[7,1,8,8],[7,9,8,39],[8,44,11,50],[8,51,11,80],[8,81,11,98],[9,28,11,31],[9,32,11,35],[9,36,11,39],[10,111,11,112],[9,8,11,11],[9,5,11,7],[12,65,13,68],[12,69,13,80],[9,1,11,4],[12,48,13,50],[3,9,5,33],[3,44,6,72],[8,111,9,112],[9,12,11,15],[9,16,11,19],[9,20,11,23],[9,24,11,27],[8,99,11,101],[8,102,11,104],[8,105,11,107],[8,108,11,110],[3,74,6,75],[3,76,6,99],[14,65,15,68],[14,69,15,80],[18,51,19,80],[22,1,27,3],[24,44,38,46],[12,5,13,7],[14,5,15,7],[12,8,13,22],[12,23,13,27],[12,28,13,39],[12,1,17,4],[18,1,21,7],[22,18,23,19],[22,20,23,21],[22,22,23,23],[12,51,13,64],[14,8,15,22],[14,23,15,27],[14,28,15,39],[14,51,15,64],[16,5,17,7],[24,4,27,7],[24,8,27,39],[37,51,38,61],[14,48,15,50],[16,48,17,50],[28,4,30,39],[31,4,33,39],[18,8,20,39],[28,1,33,3],[21,8,21,39],[22,4,23,11],[22,12,23,13],[22,14,23,15],[22,16,23,17],[39,107,44,112],[41,2,44,9],[37,2,38,27],[39,44,44,46],[39,47,41,80],[42,47,44,80],[31,84,44,96],[39,10,41,27],[42,10,44,27],[39,101,44,106],[34,1,36,12],[34,29,35,39],[36,29,44,39],[34,13,36,15],[34,16,36,18],[34,19,36,21],[34,22,36,24],[37,62,38,80],[23,81,26,112],[27,81,30,112],[33,102,34,111],[35,102,36,103],[35,104,36,105],[35,106,36,107],[35,108,36,109],[35,110,36,111],[20,51,23,80],[24,47,26,54],[24,55,26,56],[24,57,26,58],[24,59,26,60],[24,61,26,62],[24,63,26,64],[24,65,26,66],[24,67,26,68],[27,47,29,50],[27,51,29,80],[30,47,33,50],[30,51,33,80],[34,47,38,50],[34,51,36,80]]}
[]
[]
[]
[null,null,null,null,null,null,null,null,null,"振込金受取書",null,null,null,null,null,null,null,null,null,null,null,null,null,null,null,null,null,null,null,null,null,null,null,null,null,null,null,null,null,null,null,null,null,null,"振込依頼票（電信扱）",null,null,null,null,null,null,null,null,null,null,null,null,null,null,null,null,null,null,null,null,null,null,null,null,null,null,null,null,null,"※",null,"振込手数料：ご依頼人さま負担"]
[]
[]
[]
[null,"振込日",null,null,null,null,null,null,null,"　　　　　　　　年　　　　　　月　　　　　　日"]
[null,null,null,null,null,null,null,null,null,null,null,null,null,null,null,null,null,null,null,null,null,null,null,null,null,null,null,null,null,null,null,null,null,null,null,null,null,null,null,null,null,null,null,null,"振込日",null,null,null,null,null,null,"　　　　　　　　年　　　　　　月　　　　　　日",null,null,null,null,null,null,null,null,null,null,null,null,null,null,null,null,null,null,null,null,null,null,null,null,null,null,null,null,null,"手数料（消費税を含む）"]
[null,"金 額",null,null,null,{"$f":"IF(入力!$A$3=\"\",\"\",LEFT(RIGHT(\" ￥\"&入力!$E$3,9),1))","v":" "},null,null,{"$f":"IF(入力!$A$3=\"\",\"\",LEFT(RIGHT(\" ￥\"&入力!$E$3,8),1))","v":" "},null,null,null,{"$f":"IF(入力!$A$3=\"\",\"\",LEFT(RIGHT(\" ￥\"&入力!$E$3,7),1))","v":" "},null,null,null,{"$f":"IF(入力!$A$3=\"\",\"\",LEFT(RIGHT(\" ￥\"&入力!$E$3,6),1))","v":" "},null,null,null,{"$f":"IF(入力!$A$3=\"\",\"\",LEFT(RIGHT(\" ￥\"&入力!$E$3,5),1))","v":" "},null,null,null,{"$f":"IF(入力!$A$3=\"\",\"\",LEFT(RIGHT(\" ￥\"&入力!$E$3,4),1))","v":" "},null,null,null,{"$f":"IF(入力!$A$3=\"\",\"\",LEFT(RIGHT(\" ￥\"&入力!$E$3,3),1))","v":" "},null,null,null,{"$f":"IF(入力!$A$3=\"\",\"\",LEFT(RIGHT(\" ￥\"&入力!$E$3,2),1))","v":" "},null,null,null,{"$f":"IF(入力!$A$3=\"\",\"\",IF(入力!$E$3=\"\",\"\",LEFT(RIGHT(\" ￥\"&入力!$E$3,1),1)))","v":""}]
[]
[]
[null,"お振込先",null,null,null,null,null,null,{"$f":"入力!$L$6","v":"伊予銀行　愛媛県庁支店"},null,null,null,null,null,null,null,null,null,null,null,null,null,null,{"$f":"入力!$M$6","v":"普通"},null,null,null,null,{"$f":"入力!$N$6","v":"1620922"},null,null,null,null,null,null,null,null,null,null,null,null,null,null,null,"お振込先",null,null,null,null,null,null,{"$f":"$I$13","v":"伊予銀行　愛媛県庁支店"},null,null,null,null,null,null,null,null,null,null,null,null,null,{"$f":"$X$13","v":"普通"},null,null,null,{"$f":"$AC$13","v":"1620922"},null,null,null,null,null,null,null,null,null,null,null,"金額",null,null,{"$f":"$F$10","v":" "},null,null,{"$f":"$I$10","v":" "},null,null,{"$f":"$M$10","v":" "},null,null,{"$f":"$Q$10","v":" "},null,null,{"$f":"$U$10","v":" "},null,null,{"$f":"$Y$10","v":" "},null,null,{"$f":"$AC$10","v":" "},null,null,{"$f":"$AG$10","v":" "},null,null,{"$f":"$AK$10","v":""},null,null,"現入"]
[]
[null,null,null,null,null,null,null,null,{"$f":"入力!$L$7","v":"愛媛銀行　県庁支店"},null,null,null,null,null,null,null,null,null,null,null,null,null,null,{"$f":"入力!$M$7","v":"普通"},null,null,null,null,{"$f":"入力!$N$7","v":"569536"},null,null,null,null,null,null,null,null,null,null,null,null,null,null,null,null,null,null,null,null,null,null,{"$f":"$I$15","v":"愛媛銀行　県庁支店"},null,null,null,null,null,null,null,null,null,null,null,null,null,{"$f":"$X$15","v":"普通"},null,null,null,{"$f":"$AC$15","v":"569536"},null,null,null,null,null,null,null,null,null,null,null,null,null,null,null,null,null,null,null,null,null,null,null,null,null,null,null,null,null,null,null,null,null,null,null,null,null,null,null,null,null,"振入"]
[]
[null,null,null,null,null,null,null,null,{"$f":"入力!$L$8","v":"愛媛県信連　愛媛県庁支店"},null,null,null,null,null,null,null,null,null,null,null,null,null,null,{"$f":"入力!$M$8","v":"普通"},null,null,null,null,{"$f":"入力!$N$8","v":"1015627"},null,null,null,null,null,null,null,null,null,null,null,null,null,null,null,null,null,null,null,null,null,null,{"$f":"$I$17","v":"愛媛県信連　愛媛県庁支店"},null,null,null,null,null,null,null,null,null,null,null,null,null,{"$f":"$X$17","v":"普通"},null,null,null,{"$f":"$AC$17","v":"1015627"},null,null,null,null,null,null,null,null,null,null,null,null,null,null,"　　　　［金額］の頭部に￥マークをご記入ください。"]
[]
[null,"お受取人",null,null,null,null,null,null,{"$f":"入力!$P$6","v":"一般財団法人愛媛県教職員互助会"},null,null,null,null,null,null,null,null,null,null,null,null,null,null,null,null,null,null,null,null,null,null,null,null,null,null,null,null,null,null,null,null,null,null,null,"フリガナ",null,null,null,null,null,null,{"$f":"入力!$O$6","v":"ｻﾞｲ)ｴﾋﾒｹﾝｷﾖｳｼﾖｸｲﾝｺﾞｼﾞﾖｶｲ"},null,null,null,null,null,null,null,null,null,null,null,null,null,null,null,null,null,null,null,null,null,null,null,null,null,null,null,null,null,"ＡＴＭやインターネットバンキングでお振込できます。\nお名前の前に振込番号を入力ください。"]
[]
[null,null,null,null,null,null,null,null,null,null,null,null,null,null,null,null,null,null,null,null,null,null,null,null,null,null,null,null,null,null,null,null,null,null,null,null,null,null,null,null,null,null,null,null,"お受取人",null,null,null,null,null,null,{"$f":"$I$19","v":"一般財団法人愛媛県教職員互助会"}]
[null,null,null,null,null,null,null,null,{"$f":"入力!$Q$6","v":"089-943-0950"}]
[null,"ご依頼人",null,null,"振込番号",null,null,null,null,null,null,null,{"$f":"IF(入力!$B$3=\"\",\"\",MID(入力!$B$3,1,1))","v":""},null,{"$f":"IF(入力!$B$3=\"\",\"\",MID(入力!$B$3,2,1))","v":""},null,{"$f":"IF(入力!$B$3=\"\",\"\",MID(入力!$B$3,3,1))","v":""},null,{"$f":"IF(入力!$B$3=\"\",\"\",MID(入力!$B$3,4,1))","v":""},null,{"$f":"IF(入力!$B$3=\"\",\"\",MID(入力!$B$3,5,1))","v":""},null,{"$f":"IF(入力!$B$3=\"\",\"\",MID(入力!$B$3,6,1))","v":""},null,{"$f":"IF(入力!$B$3=\"\",\"\",MID(入力!$B$3,7,1))","v":""}]
[null,null,null,null,null,null,null,null,null,null,null,null,null,null,null,null,null,null,null,null,null,null,null,null,null,null,null,null,null,null,null,null,null,null,null,null,null,null,null,null,null,null,null,null,null,null,null,null,null,null,null,null,null,null,null,null,null,null,null,null,null,null,null,null,null,null,null,null,null,null,null,null,null,null,null,null,null,null,null,null,null,"【金融機関さま】　　　「振込番号」から打電してください。"]
[null,null,null,null,"おなまえ",null,null,null,{"$f":"IF(入力!$D$3=\"\",\"\",入力!$D$3)","v":""},null,null,null,null,null,null,null,null,null,null,null,null,null,null,null,null,null,null,null,null,null,null,null,null,null,null,null,null,null,null,null,null,null,null,null,"ご依頼人",null,null,"振込番号",null,null,null,null,null,null,null,{"$f":"$M$23","v":""},null,{"$f":"$O$23","v":""},null,{"$f":"$Q$23","v":""},null,{"$f":"$S$23","v":""},null,{"$f":"$U$23","v":""},null,{"$f":"$W$23","v":""},null,{"$f":"$Y$23","v":""}]
[]
[]
[null,null,null,null,null,null,null,null,null,null,null,null,null,null,null,null,null,null,null,null,null,null,null,null,null,null,null,null,null,null,null,null,null,null,null,null,null,null,null,null,null,null,null,null,null,null,null,"フリガナ",null,null,null,{"$f":"IF(入力!$C$3=\"\",\"\",入力!$C$3)","v":""},null,null,null,null,null,null,null,null,null,null,null,null,null,null,null,null,null,null,null,null,null,null,null,null,null,null,null,null,null,"【法人のお客さま】　フリガナを法人略語でご記入ください。"]
[null,"摘要",null,null,{"$f":"入力!$F$1","v":"月分貸付償還金"}]
[]
[null,null,null,null,null,null,null,null,null,null,null,null,null,null,null,null,null,null,null,null,null,null,null,null,null,null,null,null,null,null,null,null,null,null,null,null,null,null,null,null,null,null,null,null,null,null,null,"おなまえ",null,null,null,{"$f":"$I$25","v":""}]
[null,null,null,null,null,null,null,null,null,null,null,null,null,null,null,null,null,null,null,null,null,null,null,null,null,null,null,null,null,null,null,null,null,null,null,null,null,null,null,null,null,null,null,null,null,null,null,null,null,null,null,null,null,null,null,null,null,null,null,null,null,null,null,null,null,null,null,null,null,null,null,null,null,null,null,null,null,null,null,null,null,null,null,null,"出納済印"]
[]
[null,null,null,null,null,null,null,null,null,null,null,null,null,null,null,null,null,null,null,null,null,null,null,null,null,null,null,null,null,null,null,null,null,null,null,null,null,null,null,null,null,null,null,null,null,null,null,null,null,null,null,null,null,null,null,null,null,null,null,null,null,null,null,null,null,null,null,null,null,null,null,null,null,null,null,null,null,null,null,null,null,null,null,null,null,null,null,null,null,null,null,null,null,null,null,null,null,null,null,null,null,null,"振替"]
[null,"手数料（消費税を含む）",null,null,null,null,null,null,null,null,null,null,null,null,null,null,null,null,null,null,null,null,null,null,null,null,null,null,null,"取扱金融機関印",null,null,null,null,null,null,null,null,null,null,null,null,null,null,null,null,null,"おところ",null,null,null,{"$f":"IF(入力!$F$3=\"\",\"\",入力!$F$3)","v":""}]
[null,null,null,null,null,null,null,null,null,null,null,null,null,null,null,null,null,null,null,null,null,null,null,null,null,null,null,null,null,null,null,null,null,null,null,null,null,null,null,null,null,null,null,null,null,null,null,null,null,null,null,null,null,null,null,null,null,null,null,null,null,null,null,null,null,null,null,null,null,null,null,null,null,null,null,null,null,null,null,null,null,null,null,null,null,null,null,null,null,null,null,null,null,null,null,null,null,null,null,null,null,null,"当",null,"普",null,"定",null,"為",null,"経"]
[]
[null,null,"上記の金額を正に受け取りました。",null,null,null,null,null,null,null,null,null,null,null,null,null,null,null,null,null,null,null,null,null,null,null,null,null,null,null,null,null,null,null,null,null,null,null,null,null,null,null,null,null,null,null,null,null,null,null,null,"ご連絡先　お電話",null,null,null,null,null,null,null,null,null,null,{"$f":"IF(入力!$G$3=\"\",\"\",入力!$G$3)","v":""}]
[]
[null,null,null,null,null,null,null,null,null,null,"銀行",null,null,null,null,null,null,null,null,null,null,null,null,null,null,null,null,null,null,null,null,null,null,null,null,null,null,null,null,null,null,null,null,null,"摘要",null,null,{"$f":"$E$29","v":"月分貸付償還金"},null,null,null,null,null,null,null,null,null,null,null,null,null,null,null,null,null,null,null,null,null,null,null,null,null,null,null,null,null,null,null,null,null,null,null,null,null,null,null,null,null,null,null,null,null,null,null,null,null,null,null,null,null,"検　印",null,null,null,null,null,"受　付"]
[]
[null,null,"（取扱店）"]
[null,null,null,null,null,null,null,null,null,null,"店"]

{"sheet":"印刷 （カセット）","index":2,"n_rows":43,"n_cols":112,"rows_kept":43,"cut":false,"hidden":false,"merged":[[39,101,44,106],[39,107,44,112],[41,2,44,9],[42,10,44,27],[42,47,44,80],[27,81,30,112],[28,1,33,3],[28,4,30,39],[30,47,33,50],[30,51,33,80],[31,4,33,39],[31,84,44,96],[33,102,34,111],[34,1,36,12],[34,29,35,39],[34,47,38,50],[34,51,36,80],[35,102,36,103],[35,104,36,105],[35,106,36,107],[35,108,36,109],[35,110,36,111],[36,29,44,39],[34,13,36,15],[12,44,17,47],[18,1,21,7],[18,8,20,39],[18,44,19,50],[18,51,19,80],[12,5,13,7],[14,5,15,7],[14,8,15,22],[14,23,15,27],[14,28,15,39],[14,48,15,50],[14,51,15,64],[16,23,17,27],[16,28,17,39],[16,48,17,50],[16,51,17,64],[16,65,17,68],[16,5,17,7],[16,111,17,112],[12,96,15,98],[18,81,22,112],[20,44,23,50],[20,51,23,80],[21,8,21,39],[22,1,27,3],[22,4,23,11],[22,12,23,13],[22,14,23,15],[22,16,23,17],[22,18,23,19],[22,20,23,21],[22,22,23,23],[22,24,23,25],[23,81,26,112],[24,4,27,7],[24,8,27,39],[24,44,38,46],[24,47,26,54],[24,55,26,56],[24,57,26,58],[24,59,26,60],[24,61,26,62],[8,108,11,110],[3,9,5,33],[3,44,6,72],[8,111,9,112],[12,99,15,101],[12,102,15,104],[12,84,15,86],[12,87,15,89],[12,90,15,92],[12,93,15,95],[10,111,11,112],[12,8,13,22],[12,23,13,27],[12,28,13,39],[12,48,13,50],[12,51,13,64],[12,65,13,68],[14,65,15,68],[14,69,15,80],[14,111,15,112],[7,1,8,8],[12,105,15,107],[12,108,15,110],[12,111,13,112],[8,105,11,107],[7,9,8,39],[8,44,11,50],[8,51,11,80],[8,81,11,98],[9,36,11,39],[9,1,11,4],[9,5,11,7],[9,8,11,11],[9,12,11,15],[9,16,11,19],[9,20,11,23],[9,24,11,27],[9,28,11,31],[9,32,11,35],[34,16,36,18],[34,19,36,21],[34,22,36,24],[27,47,29,50],[27,51,29,80],[24,67,26,68],[39,47,41,80],[3,74,6,75],[3,76,6,99],[8,99,11,101],[16,8,17,22],[12,69,13,80],[12,81,15,83],[16,69,17,80],[16,84,17,110],[24,63,26,64],[24,65,26,66],[37,2,38,27],[37,51,38,61],[37,62,38,80],[39,10,41,27],[39,44,44,46],[12,1,17,4],[8,102,11,104]]}
[]
[]
[]
[null,null,null,null,null,null,null,null,null,"振込金受取書",null,null,null,null,null,null,null,null,null,null,null,null,null,null,null,null,null,null,null,null,null,null,null,null,null,null,null,null,null,null,null,null,null,null,"振込依頼票（電信扱）",null,null,null,null,null,null,null,null,null,null,null,null,null,null,null,null,null,null,null,null,null,null,null,null,null,null,null,null,null,"※",null,"振込手数料：ご依頼人さま負担"]
[]
[]
[]
[null,"振込日",null,null,null,null,null,null,null,"　　　　　　　　年　　　　　　月　　　　　　日"]
[null,null,null,null,null,null,null,null,null,null,null,null,null,null,null,null,null,null,null,null,null,null,null,null,null,null,null,null,null,null,null,null,null,null,null,null,null,null,null,null,null,null,null,null,"振込日",null,null,null,null,null,null,"　　　　　　　　年　　　　　　月　　　　　　日",null,null,null,null,null,null,null,null,null,null,null,null,null,null,null,null,null,null,null,null,null,null,null,null,null,null,null,null,null,"手数料（消費税を含む）"]
[null,"金 額",null,null,null,{"$f":"IF(入力!$A$3=\"\",\"\",LEFT(RIGHT(\" ￥\"&入力!$E$3,9),1))","v":" "},null,null,{"$f":"IF(入力!$A$3=\"\",\"\",LEFT(RIGHT(\" ￥\"&入力!$E$3,8),1))","v":" "},null,null,null,{"$f":"IF(入力!$A$3=\"\",\"\",LEFT(RIGHT(\" ￥\"&入力!$E$3,7),1))","v":" "},null,null,null,{"$f":"IF(入力!$A$3=\"\",\"\",LEFT(RIGHT(\" ￥\"&入力!$E$3,6),1))","v":" "},null,null,null,{"$f":"IF(入力!$A$3=\"\",\"\",LEFT(RIGHT(\" ￥\"&入力!$E$3,5),1))","v":" "},null,null,null,{"$f":"IF(入力!$A$3=\"\",\"\",LEFT(RIGHT(\" ￥\"&入力!$E$3,4),1))","v":" "},null,null,null,{"$f":"IF(入力!$A$3=\"\",\"\",LEFT(RIGHT(\" ￥\"&入力!$E$3,3),1))","v":" "},null,null,null,{"$f":"IF(入力!$A$3=\"\",\"\",LEFT(RIGHT(\" ￥\"&入力!$E$3,2),1))","v":" "},null,null,null,{"$f":"IF(入力!$A$3=\"\",\"\",IF(入力!$E$3=\"\",\"\",LEFT(RIGHT(\" ￥\"&入力!$E$3,1),1)))","v":""}]
[]
[]
[null,"お振込先",null,null,null,null,null,null,{"$f":"入力!$L$6","v":"伊予銀行　愛媛県庁支店"},null,null,null,null,null,null,null,null,null,null,null,null,null,null,{"$f":"入力!$M$6","v":"普通"},null,null,null,null,{"$f":"入力!$N$6","v":"1620922"},null,null,null,null,null,null,null,null,null,null,null,null,null,null,null,"お振込先",null,null,null,null,null,null,{"$f":"$I$13","v":"伊予銀行　愛媛県庁支店"},null,null,null,null,null,null,null,null,null,null,null,null,null,{"$f":"$X$13","v":"普通"},null,null,null,{"$f":"$AC$13","v":"1620922"},null,null,null,null,null,null,null,null,null,null,null,"金額",null,null,{"$f":"$F$10","v":" "},null,null,{"$f":"$I$10","v":" "},null,null,{"$f":"$M$10","v":" "},null,null,{"$f":"$Q$10","v":" "},null,null,{"$f":"$U$10","v":" "},null,null,{"$f":"$Y$10","v":" "},null,null,{"$f":"$AC$10","v":" "},null,null,{"$f":"$AG$10","v":" "},null,null,{"$f":"$AK$10","v":""},null,null,"現入"]
[]
[null,null,null,null,null,null,null,null,{"$f":"入力!$L$7","v":"愛媛銀行　県庁支店"},null,null,null,null,null,null,null,null,null,null,null,null,null,null,{"$f":"入力!$M$7","v":"普通"},null,null,null,null,{"$f":"入力!$N$7","v":"569536"},null,null,null,null,null,null,null,null,null,null,null,null,null,null,null,null,null,null,null,null,null,null,{"$f":"$I$15","v":"愛媛銀行　県庁支店"},null,null,null,null,null,null,null,null,null,null,null,null,null,{"$f":"$X$15","v":"普通"},null,null,null,{"$f":"$AC$15","v":"569536"},null,null,null,null,null,null,null,null,null,null,null,null,null,null,null,null,null,null,null,null,null,null,null,null,null,null,null,null,null,null,null,null,null,null,null,null,null,null,null,null,null,"振入"]
[]
[null,null,null,null,null,null,null,null,{"$f":"入力!$L$8","v":"愛媛県信連　愛媛県庁支店"},null,null,null,null,null,null,null,null,null,null,null,null,null,null,{"$f":"入力!$M$8","v":"普通"},null,null,null,null,{"$f":"入力!$N$8","v":"1015627"},null,null,null,null,null,null,null,null,null,null,null,null,null,null,null,null,null,null,null,null,null,null,{"$f":"$I$17","v":"愛媛県信連　愛媛県庁支店"},null,null,null,null,null,null,null,null,null,null,null,null,null,{"$f":"$X$17","v":"普通"},null,null,null,{"$f":"$AC$17","v":"1015627"},null,null,null,null,null,null,null,null,null,null,null,null,null,null,"　　　　［金額］の頭部に￥マークをご記入ください。"]
[]
[null,"お受取人",null,null,null,null,null,null,{"$f":"入力!$P$6","v":"一般財団法人愛媛県教職員互助会"},null,null,null,null,null,null,null,null,null,null,null,null,null,null,null,null,null,null,null,null,null,null,null,null,null,null,null,null,null,null,null,null,null,null,null,"フリガナ",null,null,null,null,null,null,{"$f":"入力!$O$6","v":"ｻﾞｲ)ｴﾋﾒｹﾝｷﾖｳｼﾖｸｲﾝｺﾞｼﾞﾖｶｲ"},null,null,null,null,null,null,null,null,null,null,null,null,null,null,null,null,null,null,null,null,null,null,null,null,null,null,null,null,null,"ＡＴＭやインターネットバンキングでお振込できます。\nお名前の前に振込番号を入力ください。"]
[]
[null,null,null,null,null,null,null,null,null,null,null,null,null,null,null,null,null,null,null,null,null,null,null,null,null,null,null,null,null,null,null,null,null,null,null,null,null,null,null,null,null,null,null,null,"お受取人",null,null,null,null,null,null,{"$f":"$I$19","v":"一般財団法人愛媛県教職員互助会"}]
[null,null,null,null,null,null,null,null,{"$f":"入力!$Q$6","v":"089-943-0950"}]
[null,"ご依頼人",null,null,"振込番号",null,null,null,null,null,null,null,{"$f":"IF(入力!$B$3=\"\",\"\",MID(入力!$B$3,1,1))","v":""},null,{"$f":"IF(入力!$B$3=\"\",\"\",MID(入力!$B$3,2,1))","v":""},null,{"$f":"IF(入力!$B$3=\"\",\"\",MID(入力!$B$3,3,1))","v":""},null,{"$f":"IF(入力!$B$3=\"\",\"\",MID(入力!$B$3,4,1))","v":""},null,{"$f":"IF(入力!$B$3=\"\",\"\",MID(入力!$B$3,5,1))","v":""},null,{"$f":"IF(入力!$B$3=\"\",\"\",MID(入力!$B$3,6,1))","v":""},null,{"$f":"IF(入力!$B$3=\"\",\"\",MID(入力!$B$3,7,1))","v":""}]
[null,null,null,null,null,null,null,null,null,null,null,null,null,null,null,null,null,null,null,null,null,null,null,null,null,null,null,null,null,null,null,null,null,null,null,null,null,null,null,null,null,null,null,null,null,null,null,null,null,null,null,null,null,null,null,null,null,null,null,null,null,null,null,null,null,null,null,null,null,null,null,null,null,null,null,null,null,null,null,null,null,"【金融機関さま】　　　「振込番号」から打電してください。"]
[null,null,null,null,"おなまえ",null,null,null,{"$f":"IF(入力!$D$3=\"\",\"\",入力!$D$3)","v":""},null,null,null,null,null,null,null,null,null,null,null,null,null,null,null,null,null,null,null,null,null,null,null,null,null,null,null,null,null,null,null,null,null,null,null,"ご依頼人",null,null,"振込番号",null,null,null,null,null,null,null,{"$f":"$M$23","v":""},null,{"$f":"$O$23","v":""},null,{"$f":"$Q$23","v":""},null,{"$f":"$S$23","v":""},null,{"$f":"$U$23","v":""},null,{"$f":"$W$23","v":""},null,{"$f":"$Y$23","v":""}]
[]
[]
[null,null,null,null,null,null,null,null,null,null,null,null,null,null,null,null,null,null,null,null,null,null,null,null,null,null,null,null,null,null,null,null,null,null,null,null,null,null,null,null,null,null,null,null,null,null,null,"フリガナ",null,null,null,{"$f":"IF(入力!$C$3=\"\",\"\",入力!$C$3)","v":""},null,null,null,null,null,null,null,null,null,null,null,null,null,null,null,null,null,null,null,null,null,null,null,null,null,null,null,null,null,"【法人のお客さま】　フリガナを法人略語でご記入ください。"]
[null,"摘要",null,null,{"$f":"入力!$F$1","v":"月分貸付償還金"}]
[]
[null,null,null,null,null,null,null,null,null,null,null,null,null,null,null,null,null,null,null,null,null,null,null,null,null,null,null,null,null,null,null,null,null,null,null,null,null,null,null,null,null,null,null,null,null,null,null,"おなまえ",null,null,null,{"$f":"$I$25","v":""}]
[null,null,null,null,null,null,null,null,null,null,null,null,null,null,null,null,null,null,null,null,null,null,null,null,null,null,null,null,null,null,null,null,null,null,null,null,null,null,null,null,null,null,null,null,null,null,null,null,null,null,null,null,null,null,null,null,null,null,null,null,null,null,null,null,null,null,null,null,null,null,null,null,null,null,null,null,null,null,null,null,null,null,null,null,"出納済印"]
[]
[null,null,null,null,null,null,null,null,null,null,null,null,null,null,null,null,null,null,null,null,null,null,null,null,null,null,null,null,null,null,null,null,null,null,null,null,null,null,null,null,null,null,null,null,null,null,null,null,null,null,null,null,null,null,null,null,null,null,null,null,null,null,null,null,null,null,null,null,null,null,null,null,null,null,null,null,null,null,null,null,null,null,null,null,null,null,null,null,null,null,null,null,null,null,null,null,null,null,null,null,null,null,"振替"]
[null,"手数料（消費税を含む）",null,null,null,null,null,null,null,null,null,null,null,null,null,null,null,null,null,null,null,null,null,null,null,null,null,null,null,"取扱金融機関印",null,null,null,null,null,null,null,null,null,null,null,null,null,null,null,null,null,"おところ",null,null,null,{"$f":"IF(入力!$F$3=\"\",\"\",入力!$F$3)","v":""}]
[null,null,null,null,null,null,null,null,null,null,null,null,null,null,null,null,null,null,null,null,null,null,null,null,null,null,null,null,null,null,null,null,null,null,null,null,null,null,null,null,null,null,null,null,null,null,null,null,null,null,null,null,null,null,null,null,null,null,null,null,null,null,null,null,null,null,null,null,null,null,null,null,null,null,null,null,null,null,null,null,null,null,null,null,null,null,null,null,null,null,null,null,null,null,null,null,null,null,null,null,null,null,"当",null,"普",null,"定",null,"為",null,"経"]
[]
[null,null,"上記の金額を正に受け取りました。",null,null,null,null,null,null,null,null,null,null,null,null,null,null,null,null,null,null,null,null,null,null,null,null,null,null,null,null,null,null,null,null,null,null,null,null,null,null,null,null,null,null,null,null,null,null,null,null,"ご連絡先　お電話",null,null,null,null,null,null,null,null,null,null,{"$f":"IF(入力!$G$3=\"\",\"\",入力!$G$3)","v":""}]
[]
[null,null,null,null,null,null,null,null,null,null,"銀行",null,null,null,null,null,null,null,null,null,null,null,null,null,null,null,null,null,null,null,null,null,null,null,null,null,null,null,null,null,null,null,null,null,"摘要",null,null,{"$f":"$E$29","v":"月分貸付償還金"},null,null,null,null,null,null,null,null,null,null,null,null,null,null,null,null,null,null,null,null,null,null,null,null,null,null,null,null,null,null,null,null,null,null,null,null,null,null,null,null,null,null,null,null,null,null,null,null,null,null,null,null,null,"検　印",null,null,null,null,null,"受　付"]
[]
[null,null,"（取扱店）"]
[null,null,null,null,null,null,null,null,null,null,"店"]